{"text_format":"3","workbook":"xlsx","n_sheets":4,"sheets":["с 7 до 11 лет","с 12 и старше ","с 7 до 11 лет 2 смена ","с 12 и старше 2 смена "],"not_rendered":{"images":7,"defined_names":3},"read":"whole","date_system":"1900"}

{"sheet":"с 7 до 11 лет","index":0,"n_rows":203,"n_cols":7,"rows_kept":203,"merged":[[0,4,2,7],[3,0,3,6],[4,0,4,6],[5,0,5,6],[11,3,11,6],[12,0,13,0],[12,1,13,1],[12,2,12,4],[12,5,13,5],[12,6,13,6],[31,3,31,6],[32,0,33,0],[32,1,33,1],[32,2,32,4],[32,5,33,5],[32,6,33,6],[50,3,50,6],[51,0,52,0],[51,1,52,1],[51,2,51,4],[51,5,52,5],[51,6,52,6],[69,3,69,6],[70,0,71,0],[70,1,71,1],[70,2,70,4],[70,5,71,5],[70,6,71,6],[88,3,88,6],[89,0,90,0],[89,1,90,1],[89,2,89,4],[89,5,90,5],[89,6,90,6],[107,3,107,6],[108,0,109,0],[108,1,109,1],[108,2,108,4],[108,5,109,5],[108,6,109,6],[126,3,126,6],[127,0,128,0],[127,1,128,1],[127,2,127,4],[127,5,128,5],[127,6,128,6],[145,3,145,6],[146,0,147,0],[146,1,147,1],[146,2,146,4],[146,5,147,5],[146,6,147,6],[164,3,164,6],[165,0,166,0],[165,1,166,1],[165,2,165,4],[165,5,166,5],[165,6,166,6],[183,3,183,6],[184,0,185,0],[184,1,185,1],[184,2,184,4],[184,5,185,5],[184,6,185,6],[202,0,202,1],[203,0,203,1]]}
[]
[]
[]
["ПРИМЕРНОЕ МЕНЮ И ПИЩЕВАЯ ЦЕННОСТЬ "]
["ПРИГОТАВЛИВАЕМЫХ БЛЮД "]
["(2-х недельное)"]
["МБОУ СОШ с.Красная Горка"]
["Директор школы: Нуртдинов С.Р."]
["от 28 августа 2024 года"]
["Сезон: Осень-зима "]
["Возростная категория: Начальные классы"]
[{"$nulls":3},"1-ая неделя/Понедельник "]
["Прием пищи, наименование блюда ","Вес блюда ","Пищевые вещества (г)",null,null,"Энерг. ценность ","№ рецептуры "]
[null,null,"Белки ","Жиры","Углеводы"]
[1,2,3,4,5,6,7]
["Завтрак "]
["Макароны отварные с томатным соусом ",180,7.5,7.5,21,210,"КП24030"]
["Какао с молоком ",200,3.1,4,16,180,"КП24044"]
["Хлеб пшеничный витаминизированный ",40,2.2,0.48,13,94,"0000065"]
["Сыр порционный",12,2.8,3.5,0,44,"КП24060"]
["Фрукты свеж.(шт.)",100,0.4,0.4,9.8,47,"КП24061"]
["Всего в Завтрак ",{"$f":"SUM(B17:B21)","v":532},{"$f":"SUM(C17:C21)","v":16},15.88,59.8,575]
["Обед"]
["Щи из свежей капусты с картофелем со сметаной ",200,1.4,3.98,20,157,"КП24026"]
["Каша гречневая рассыпчатая ",150,5.8,5.4,27,180,"КП24049"]
["Котлеты куриные с соусом томатным ",90,12,8,19,293,"КП24032"]
["Чай с сахаром ",200,0.2,0,6.5,27,"КП24045"]
["Хлеб пшеничный витаминизированный ",35,1.93,0.42,11.38,82,"0000065"]
["Хлеб ржаной витаминизированный ",30,2.43,4.2,11,71,"ШК00129"]
["Всего в Обед ",{"$f":"SUM(B24:B29)","v":705},{"$f":"SUM(C24:C29)","v":23.759999999999998},22.000000000000004,94.88,810]
["Всего в день ",{"$f":"B22+B30","v":1237},{"$f":"C22+C30","v":39.76},37.88,154.68,1385]
[{"$nulls":3},"1-ая неделя/Вторник"]
["Прием пищи, наименование блюда ","Вес блюда ","Пищевые вещества (г)",null,null,"Энерг. ценность ","№ рецептуры "]
[null,null,"Белки ","Жиры","Углеводы"]
[1,2,3,4,5,6,7]
["Завтрак "]
["Каша \"Дружба\" молочная ",170,8,5.1,25,240,"КП24048"]
["Сырники из творога с соусом молочным ",90,5.4,9,13.5,120,"КП24057"]
["Чай с сахаром ",200,0.2,0,6.5,27,"КП24045"]
["Хлеб пшеничный витаминизированный ",40,2.2,0.48,13,94,"0000065"]
["Всего в Завтрак ",{"$f":"SUM(B37:B40)","v":500},{"$f":"SUM(C37:C40)","v":15.8},{"$f":"SUM(D37:D40)","v":14.58},{"$f":"SUM(E37:E40)","v":58},{"$f":"SUM(F37:F40)","v":481}]
["Обед"]
["Суп картофельный с вермишелью",200,8,4,15,111,"КП24012"]
["Солянка из сборных овощей ",150,1.2,0.5,5.3,108,"КП24064"]
["Котлеты из говядины \"Боярские\" с соусом томатным ",90,9,11,24,231,"КП24040"]
["Компот из смеси сухофруктов ",200,0.9,0.1,21,132,"КП24054"]
["Хлеб пшеничный витаминизированный ",35,1.93,0.42,11.38,82,"0000065"]
["Хлеб ржаной витаминизированный ",30,2.43,4.2,11,71,"ШК00129"]
["Всего в Обед ",{"$f":"SUM(B43:B48)","v":705},{"$f":"SUM(C43:C48)","v":23.459999999999997},{"$f":"SUM(D43:D48)","v":20.22},{"$f":"SUM(E43:E48)","v":87.67999999999999},{"$f":"SUM(F43:F48)","v":735}]
["Всего в день ",{"$f":"B41+B49","v":1205},{"$f":"C41+C49","v":39.26},{"$f":"D41+D49","v":34.8},{"$f":"E41+E49","v":145.68},{"$f":"F41+F49","v":1216}]
[{"$nulls":3},"1-ая неделя/Среда "]
["Прием пищи, наименование блюда ","Вес блюда ","Пищевые вещества (г)",null,null,"Энерг. ценность ","№ рецептуры "]
[null,null,"Белки ","Жиры","Углеводы"]
[1,2,3,4,5,6,7]
["Завтрак "]
["Каша гречневая рассыпчатая ",170,6,6.1,30.4,204,"КП24049"]
["Голубцы ленивые \"Детские\" под соусом томатным ",90,7.6,9.32,11.72,155,"КП24008"]
["Чай с сахаром ",200,0.2,0,6.5,27,"КП24045"]
["Хлеб пшеничный витаминизированный ",40,2.2,0.48,11.38,94,"0000065"]
["Всего в Завтрак ",{"$f":"SUM(B56:B59)","v":500},{"$f":"SUM(C56:C59)","v":16},{"$f":"SUM(D56:D59)","v":15.9},{"$f":"SUM(E56:E59)","v":60},{"$f":"SUM(F56:F59)","v":480}]
["Обед"]
["Салат из белокачанной капусты ",60,1.1,1.2,4.6,33,"КП24063"]
["Рассольник лениградский с крупой перловой со сметаной ",200,9,10,4.6,147,"КП24018"]
["Картофель и овощи, тушенные в соусе с куриным фаршем ",190,7,6,29,280,"КП24034"]
["Компот яблочный ",200,1.6,0,29,111,"КП24055"]
["Хлеб пшеничный витаминизированный ",35,1.93,0.42,11.38,82,"0000065"]
["Хлеб ржаной витаминизированный ",30,2.43,4.2,11,71,"ШК00129"]
["Всего в Обед ",{"$f":"SUM(B62:B67)","v":715},{"$f":"SUM(C62:C67)","v":23.060000000000002},{"$f":"SUM(D62:D67)","v":21.82},{"$f":"SUM(E62:E67)","v":89.58},{"$f":"SUM(F62:F67)","v":724}]
["Всего в день ",{"$f":"B60+B68","v":1215},{"$f":"C60+C68","v":39.06},{"$f":"D60+D68","v":37.72},{"$f":"E60+E68","v":149.57999999999998},{"$f":"F60+F68","v":1204}]
[{"$nulls":3},"1-ая неделя /Четверг"]
["Прием пищи, наименование блюда ","Вес блюда ","Пищевые вещества (г)",null,null,"Энерг. ценность ","№ рецептуры "]
[null,null,"Белки ","Жиры","Углеводы"]
[1,2,3,4,5,6,7]
["Завтрак "]
["Плов из говядины ",160,10.3,11.25,28.3,350,"КП24050"]
["Чай с сахаром ",200,0.2,0,6.5,27,"КП24045"]
["Хлеб пшеничный витаминизированный ",40,2.2,0.48,13,94,"0000065"]
["Йогурт ",100,3.3,3,6.4,71,"КП24058"]
["Всего в Завтрак ",{"$f":"SUM(B75:B78)","v":500},{"$f":"SUM(C75:C78)","v":16},{"$f":"SUM(D75:D78)","v":14.73},{"$f":"SUM(E75:E78)","v":54.199999999999996},{"$f":"SUM(F75:F78)","v":542}]
["Обед"]
["Суп с фасолью на овощном бульоне ",200,6,6,15.4,305,"КП24013"]
["Макароны отварные с маслом ",150,4,6,15.2,200,"КП24052"]
["Котлеты куриные \"Наггетсы\" с подливом овощным ",90,6,7.2,15,87,"КП24007"]
["Компот из свежих плодов (яблоко,лимон)",200,0.2,0.2,12,50,"КП24056"]
["Хлеб пшеничный витаминизированный ",35,1.93,0.42,11.38,82,"0000065"]
["Хлеб ржаной витаминизированный ",30,2.43,4.2,11,71,"ШК00129"]
["Всего в Обед ",{"$f":"SUM(B81:B86)","v":705},{"$f":"SUM(C81:C86)","v":20.56},{"$f":"SUM(D81:D86)","v":24.02},{"$f":"SUM(E81:E86)","v":79.98},{"$f":"SUM(F81:F86)","v":795}]
["Всего в день ",{"$f":"B79+B87","v":1205},{"$f":"C79+C87","v":36.56},{"$f":"D79+D87","v":38.75},{"$f":"E79+E87","v":134.18},{"$f":"F79+F87","v":1337}]
[{"$nulls":3},"1-ая неделя/Пятница"]
["Прием пищи, наименование блюда ","Вес блюда ","Пищевые вещества (г)",null,null,"Энерг. ценность ","№ рецептуры "]
[null,null,"Белки ","Жиры","Углеводы"]
[1,2,3,4,5,6,7]
["Завтрак "]
["Картофельное пюре ",170,4.5,4,22,180,"КП24051"]
["Биточки рыбные с соусом томатным ",90,7.7,9.8,21,183,"КП24033"]
["Чай витаминизированный \"Витошка\"",200,1,0,2,54,"КП24046"]
["Хлеб пшеничный витаминизированный ",40,2.2,0.48,13,94,"0000065"]
["Всего в Завтрак ",{"$f":"SUM(B94:B97)","v":500},{"$f":"SUM(C94:C97)","v":15.399999999999999},{"$f":"SUM(D94:D97)","v":14.280000000000001},{"$f":"SUM(E94:E97)","v":58},{"$f":"SUM(F94:F97)","v":511}]
["Обед"]
["Суп крестьянский с крупой (пшено) со сметаной ",200,4.6,3,12,170,"КП24015"]
["Каша гречневая рассыпчатая ",150,5.8,5.4,27,180,"КП24049"]
["Голубцы ленивые \"Детские\" под соусом томатным ",90,7.6,9.32,11.72,155,"КП24008"]
["Компот из смеси сухофруктов ",200,0.9,0.1,21,132,"КП24054"]
["Хлеб пшеничный витаминизированный ",35,1.93,0.42,11.38,82,"0000065"]
["Хлеб ржаной витаминизированный ",30,2.43,4.2,11,71,"ШК00129"]
["Всего в Обед ",{"$f":"SUM(B100:B105)","v":705},{"$f":"SUM(C100:C105)","v":23.259999999999998},{"$f":"SUM(D100:D105)","v":22.44},{"$f":"SUM(E100:E105)","v":94.1},{"$f":"SUM(F100:F105)","v":790}]
["Всего в день ",{"$f":"B98+B106","v":1205},{"$f":"C98+C106","v":38.66},{"$f":"D98+D106","v":36.72},{"$f":"E98+E106","v":152.1},{"$f":"F98+F106","v":1301}]
[{"$nulls":3},"2-ая неделя/Понедельник "]
["Прием пищи, наименование блюда ","Вес блюда ","Пищевые вещества (г)",null,null,"Энерг. ценность ","№ рецептуры "]
[null,null,"Белки ","Жиры","Углеводы"]
[1,2,3,4,5,6,7]
["Завтрак "]
["Макароны отварные с маслом ",170,4.7,6.8,16,226.7,"КП24052"]
["Котлеты куриные \"Наггетсы\" с подливом овощным ",90,6,7.2,15,87,"КП24007"]
["Какао с молоком ",200,3.1,4,16,180,"КП24044"]
["Хлеб пшеничный витаминизированный ",40,2.2,0.48,13,94,"0000065"]
["Всего в Завтрак ",{"$f":"SUM(B113:B116)","v":500},{"$f":"SUM(C113:C116)","v":16},{"$f":"SUM(D113:D116)","v":18.48},{"$f":"SUM(E113:E116)","v":60},{"$f":"SUM(F113:F116)","v":587.7}]
["Обед"]
["Щи из свежей капусты с картофелем со сметаной ",200,5.4,3.98,20,154,"КП24026"]
["Плов из говядины ",150,10,11,28,324,"КП24050"]
["Чай с сахаром ",200,0.2,0,6.5,27,"КП24045"]
["Хлеб пшеничный витаминизированный ",35,1.93,0.42,11.38,82,"0000065"]
["Хлеб ржаной витаминизированный ",30,2.43,4.2,11,71,"ШК00129"]
["Фрукты свеж.(шт.)",100,0.4,0.4,9.8,47,"КП24061"]
["Всего в Обед ",{"$f":"SUM(B119:B124)","v":715},{"$f":"SUM(C119:C124)","v":20.36},{"$f":"SUM(D119:D124)","v":20},{"$f":"SUM(E119:E124)","v":86.67999999999999},{"$f":"SUM(F119:F124)","v":705}]
["Всего в день ",{"$f":"B117+B125","v":1215},{"$f":"C117+C125","v":36.36},{"$f":"D117+D125","v":38.480000000000004},{"$f":"E117+E125","v":146.68},{"$f":"F117+F125","v":1292.7}]
[{"$nulls":3},"2-ая неделя/Вторник "]
["Прием пищи, наименование блюда ","Вес блюда ","Пищевые вещества (г)",null,null,"Энерг. ценность ","№ рецептуры "]
[null,null,"Белки ","Жиры","Углеводы"]
[1,2,3,4,5,6,7]
["Завтрак "]
["Каша гречневая рассыпчатая ",170,6,6.12,30.4,204,"КП24049"]
["Котлеты из говядины \"Люля-Кебаб\" с соусом томатным ",90,7,6,10.1,146,"КП24005"]
["Чай с сахаром ",200,0.2,0,6.5,27,"КП24045"]
["Хлеб пшеничный витаминизированный ",40,2.2,0.48,13,94,"0000065"]
["Всего в Завтрак ",{"$f":"SUM(B132:B135)","v":500},{"$f":"SUM(C132:C135)","v":15.399999999999999},{"$f":"SUM(D132:D135)","v":12.600000000000001},{"$f":"SUM(E132:E135)","v":60},{"$f":"SUM(F132:F135)","v":471}]
["Обед"]
["Суп картофельный с вермишелью",200,8,2,15,111,"КП24012"]
["Картофельное пюре ",150,3.9,3.8,12.3,149,"КП24051"]
["Биточки рыбные с соусом томатным ",90,7.7,9.8,21,183,"КП24033"]
["Компот яблочный ",200,1.6,0,29,111,"КП24055"]
["Хлеб пшеничный витаминизированный ",35,1.93,0.42,11.38,82,"0000065"]
["Хлеб ржаной витаминизированный ",30,2.43,4.2,11,71,"ШК00129"]
["Всего в Обед ",{"$f":"SUM(B138:B143)","v":705},{"$f":"SUM(C138:C143)","v":25.560000000000002},{"$f":"SUM(D138:D143)","v":20.220000000000002},{"$f":"SUM(E138:E143)","v":99.67999999999999},{"$f":"SUM(F138:F143)","v":707}]
["Всего в день ",{"$f":"B136+B144","v":1205},{"$f":"C136+C144","v":40.96},{"$f":"D136+D144","v":32.82000000000001},{"$f":"E136+E144","v":159.68},{"$f":"F136+F144","v":1178}]
[{"$nulls":3},"2-ая неделя/Среда "]
["Прием пищи, наименование блюда ","Вес блюда ","Пищевые вещества (г)",null,null,"Энерг. ценность ","№ рецептуры "]
[null,null,"Белки ","Жиры","Углеводы"]
[1,2,3,4,5,6,7]
["Завтрак "]
["Каша рисовая молочная ",170,6.6,9.2,20,266,"КП24053"]
["Сырники \"Сюрприз\"",90,6.9,6,18,110,"КП24006"]
["Чай с лимоном и сахаром ",200,0.3,0.3,1,65,"КП24047"]
["Хлеб пшеничный витаминизированный ",40,2.2,0.48,13,94,"0000065"]
["Всего в Завтрак ",{"$f":"SUM(B151:B154)","v":500},{"$f":"SUM(C151:C154)","v":16},{"$f":"SUM(D151:D154)","v":15.98},{"$f":"SUM(E151:E154)","v":52},{"$f":"SUM(F151:F154)","v":535}]
["Обед"]
["Свекольник со сметаной ",200,5,4,13,105,"КП24020"]
["Макароны отварные с маслом ",150,4,6,15.2,200,"КП24052"]
["Голень куриная запеченная с подливом из томатной пасты ",90,10,11,15,115,"КП24067"]
["Компот из смеси сухофруктов ",200,0.9,0.1,21,132,"КП24054"]
["Хлеб пшеничный витаминизированный ",35,1.93,0.42,11.38,82,"0000065"]
["Хлеб ржаной витаминизированный ",30,2.43,4.2,11,71,"ШК00129"]
["Всего в Обед ",{"$f":"SUM(B157:B162)","v":705},{"$f":"SUM(C157:C162)","v":24.259999999999998},{"$f":"SUM(D157:D162)","v":25.720000000000002},{"$f":"SUM(E157:E162)","v":86.58},{"$f":"SUM(F157:F162)","v":705}]
["Всего в день ",{"$f":"B155+B163","v":1205},{"$f":"C155+C163","v":40.26},{"$f":"D155+D163","v":41.7},{"$f":"E155+E163","v":138.57999999999998},{"$f":"F155+F163","v":1240}]
[{"$nulls":3},"2-ая неделя/Четверг"]
["Прием пищи, наименование блюда ","Вес блюда ","Пищевые вещества (г)",null,null,"Энерг. ценность ","№ рецептуры "]
[null,null,"Белки ","Жиры","Углеводы"]
[1,2,3,4,5,6,7]
["Завтрак "]
["Борщ со сметаной на курином бульоне ",230,9,8,21,103,"КП24029"]
["Какао с молоком ",200,3.1,4,16,180,"КП24044"]
["Хлеб пшеничный витаминизированный ",40,2.2,0.48,13,94,"0000065"]
["Кекс для детского питания",32,1,1.2,9,98,"КП24059"]
["Всего в Завтрак ",{"$f":"SUM(B170:B173)","v":502},{"$f":"SUM(C170:C173)","v":15.3},{"$f":"SUM(D170:D173)","v":13.68},{"$f":"SUM(E170:E173)","v":59},{"$f":"SUM(F170:F173)","v":475}]
["Обед"]
["Салат из белокачанной капусты ",90,1.6,1.8,6.9,49.5,"КП24063"]
["Суп-лапша домашняя",200,2.4,4.8,11.8,95.6,"КП24016"]
["Каша гречневая рассыпчатая с овощами и куриным фаршем ",150,11.5,10,40,450,"КП24035"]
["Чай с сахаром ",200,0.2,0,6.5,27,"КП24045"]
["Хлеб пшеничный витаминизированный ",35,1.93,0.42,11.38,82,"0000065"]
["Хлеб ржаной витаминизированный ",30,2.43,4.2,11,71,"ШК00129"]
["Всего в Обед ",{"$f":"SUM(B176:B181)","v":705},{"$f":"SUM(C176:C181)","v":20.06},{"$f":"SUM(D176:D181)","v":21.220000000000002},{"$f":"SUM(E176:E181)","v":87.58},{"$f":"SUM(F176:F181)","v":775.1}]
["Всего в день ",{"$f":"B174+B182","v":1207},{"$f":"C174+C182","v":35.36},{"$f":"D174+D182","v":34.900000000000006},{"$f":"E174+E182","v":146.57999999999998},{"$f":"F174+F182","v":1250.1}]
[{"$nulls":3},"2-ая неделя/Пятница"]
["Прием пищи, наименование блюда ","Вес блюда ","Пищевые вещества (г)",null,null,"Энерг. ценность ","№ рецептуры "]
[null,null,"Белки ","Жиры","Углеводы"]
[1,2,3,4,5,6,7]
["Завтрак "]
["Картофельное пюре ",170,4.5,4,22,180,"КП24051"]
["Котлкты из говядины \"Боярские\" с соусом томатным ",90,9,11,24,231,"КП24040"]
["Чай с лимоном и сахаром ",200,0.3,0.3,1,65,"КП24047"]
["Хлеб пшеничный витаминизированный ",40,2.2,0.48,13,94,"0000065"]
["Всего в Завтрак ",{"$f":"SUM(B189:B192)","v":500},{"$f":"SUM(C189:C192)","v":16},{"$f":"SUM(D189:D192)","v":15.780000000000001},{"$f":"SUM(E189:E192)","v":60},{"$f":"SUM(F189:F192)","v":570}]
["Обед"]
["Салат из моркови на растительном масле (морковь,сахар)",90,1,4.3,9.1,52,"КП24062"]
["Суп картофельный с бобовыми и гренками ",200,9,5,16,162,"КП24010"]
["Плов из говядины ",150,10,11,28,329,"КП24050"]
["Компот из смеси сухофруктов ",200,0.9,0.1,21,132,"КП24054"]
["Хлеб пшеничный витаминизированный ",35,1.93,0.42,11.38,82,"0000065"]
["Хлеб ржаной витаминизированный ",30,2.43,4.2,11,71,"ШК00129"]
["Всего в Обед ",{"$f":"SUM(B195:B200)","v":705},{"$f":"SUM(C195:C200)","v":25.259999999999998},{"$f":"SUM(D195:D200)","v":25.020000000000003},{"$f":"SUM(E195:E200)","v":96.47999999999999},{"$f":"SUM(F195:F200)","v":828}]
["Всего в день ",{"$f":"B193+B201","v":1205},{"$f":"C193+C201","v":41.26},{"$f":"D193+D201","v":40.800000000000004},{"$f":"E193+E201","v":156.48},{"$f":"F193+F201","v":1398}]
["Итого:",null,{"$f":"C31+C50+C69+C88+C107+C126+C145+C164+C183+C202","v":387.49999999999994},{"$f":"D31+D50+D69+D88+D107+D126+D145+D164+D183+D202","v":374.57},{"$f":"E31+E50+E69+E88+E107+E126+E145+E164+E183+E202","v":1484.22},{"$f":"F31+F50+F69+F88+F107+F126+F145+F164+F183+F202","v":12801.800000000001}]

{"sheet":"с 12 и старше ","index":1,"n_rows":203,"n_cols":7,"rows_kept":203,"merged":[[3,0,3,6],[4,0,4,6],[5,0,5,6],[11,3,11,6],[12,0,13,0],[12,1,13,1],[12,2,12,4],[12,5,13,5],[12,6,13,6],[31,3,31,6],[32,0,33,0],[32,1,33,1],[32,2,32,4],[32,5,33,5],[32,6,33,6],[50,3,50,6],[51,0,52,0],[51,1,52,1],[51,2,51,4],[51,5,52,5],[51,6,52,6],[69,3,69,6],[70,0,71,0],[70,1,71,1],[70,2,70,4],[70,5,71,5],[70,6,71,6],[88,3,88,6],[89,0,90,0],[89,1,90,1],[89,2,89,4],[89,5,90,5],[89,6,90,6],[107,3,107,6],[108,0,109,0],[108,1,109,1],[108,2,108,4],[108,5,109,5],[108,6,109,6],[126,3,126,6],[127,0,128,0],[127,1,128,1],[127,2,127,4],[127,5,128,5],[127,6,128,6],[145,3,145,6],[146,0,147,0],[146,1,147,1],[146,2,146,4],[146,5,147,5],[146,6,147,6],[164,3,164,6],[165,0,166,0],[165,1,166,1],[165,2,165,4],[165,5,166,5],[165,6,166,6],[183,3,183,6],[184,0,185,0],[184,1,185,1],[184,2,184,4],[184,5,185,5],[184,6,185,6],[202,0,202,1],[203,0,203,1]]}
[]
[]
[]
["ПРИМЕРНОЕ МЕНЮ И ПИЩЕВАЯ ЦЕННОСТЬ "]
["ПРИГОТАВЛИВАЕМЫХ БЛЮД "]
["(2-х недельное)"]
[{"$f":"'с 7 до 11 лет'!A7","v":"МБОУ СОШ с.Красная Горка"}]
[{"$f":"'с 7 до 11 лет'!A8","v":"Директор школы: Нуртдинов С.Р."}]
[{"$f":"'с 7 до 11 лет'!A9","v":"от 28 августа 2024 года"}]
["Сезон: Осень-зима "]
["Возростная категория: Старшие классы "]
[{"$nulls":3},"1-ая неделя/Понедельник "]
["Прием пищи, наименование блюда ","Вес блюда ","Пищевые вещества (г)",null,null,"Энерг. ценность ","№ рецептуры "]
[null,null,"Белки ","Жиры","Углеводы"]
[1,2,3,4,5,6,7]
["Завтрак "]
["Макароны отварные с томатным соусом ",200,9.6,11.2,37.95,291,"КП24030"]
["Какао с молоком ",200,3.1,4,16,180,"КП24044"]
["Хлеб пшеничный ",50,2.75,0.6,16.25,117,"0000065"]
["Сыр порционный",12,2.8,3.5,0,44,"КП24060"]
["Фрукты свеж.(шт.)",100,0.4,0.4,9.8,47,"КП24061"]
["Всего в Завтрак ",{"$f":"SUM(B17:B21)","v":562},{"$f":"SUM(C17:C21)","v":18.65},19.699999999999996,80,679]
["Обед"]
["Щи из свежей капусты с картофелем со сметаной ",250,2,5,10,98,"КП24021"]
["Каша гречневая рассыпчатая ",180,6,5.4,30,210,"КП24049"]
["Котлеты куриные с соусом томатным ",100,13,10,25,320,"КП24037"]
["Чай с сахаром ",200,0.2,0,6.5,27,"КП24045"]
["Хлеб пшеничный ",45,2.48,0.54,14.63,105,"0000065"]
["Хлеб ржаной ",40,3.24,5.6,14.67,95,"ШК00129"]
["Всего в Обед ",{"$f":"SUM(B24:B29)","v":815},{"$f":"SUM(C24:C29)","v":26.92},26.54,100.8,855]
["Всего в день ",{"$f":"B22+B30","v":1377},{"$f":"C22+C30","v":45.57},46.239999999999995,180.8,1534]
[{"$nulls":3},"1-ая неделя/Вторник"]
["Прием пищи, наименование блюда ","Вес блюда ","Пищевые вещества (г)",null,null,"Энерг. ценность ","№ рецептуры "]
[null,null,"Белки ","Жиры","Углеводы"]
[1,2,3,4,5,6,7]
["Завтрак "]
["Каша \"Дружба\" молочная ",210,11,8.6,38,240,"КП24048"]
["Сырники из творога с соусом молочным ",90,5.4,9,13.5,120,"КП24057"]
["Чай с сахаром ",200,0.2,0,6.5,27,"КП24045"]
["Хлеб пшеничный ",50,2.75,0.6,16.25,117,"0000065"]
["Всего в Завтрак ",{"$f":"SUM(B37:B40)","v":550},{"$f":"SUM(C37:C40)","v":19.349999999999998},{"$f":"SUM(D37:D40)","v":18.200000000000003},{"$f":"SUM(E37:E40)","v":74.25},{"$f":"SUM(F37:F40)","v":504}]
["Обед"]
["Суп картофельный с вермишелью",250,9,3,16,114,"КП24012"]
["Солянка из сборных овощей ",180,1.2,0.5,6.7,110,"КП24064"]
["Котлеты из говядины \"Боярские\" с соусом томатным ",100,10,16,28,267,"КП24041"]
["Компот из смеси сухофруктов ",200,0.9,0.1,21,132,"КП24054"]
["Хлеб пшеничный ",45,2.48,0.54,14.63,105,"0000065"]
["Хлеб ржаной ",40,3.24,5.6,14.67,95,"ШК00129"]
["Всего в Обед ",{"$f":"SUM(B43:B48)","v":815},{"$f":"SUM(C43:C48)","v":26.82},25.740000000000002,101,823]
["Всего в день ",{"$f":"B41+B49","v":1365},{"$f":"C41+C49","v":46.17},43.940000000000005,175.25,1327]
[{"$nulls":3},"1-ая неделя/Среда "]
["Прием пищи, наименование блюда ","Вес блюда ","Пищевые вещества (г)",null,null,"Энерг. ценность ","№ рецептуры "]
[null,null,"Белки ","Жиры","Углеводы"]
[1,2,3,4,5,6,7]
["Завтрак "]
["Каша гречневая рассыпчатая ",200,7,7.1,32.4,254,"КП24049"]
["Голубцы ленивые \"Детские\" под соусом томатным ",100,9,11,11.72,171,"КП24009"]
["Чай с сахаром ",200,0.2,0,6.5,27,"КП24045"]
["Хлеб пшеничный ",50,2.75,0.6,16.25,117,"0000065"]
["Всего в Завтрак ",{"$f":"SUM(B56:B59)","v":550},{"$f":"SUM(C56:C59)","v":18.95},{"$f":"SUM(D56:D59)","v":18.700000000000003},{"$f":"SUM(E56:E59)","v":66.87},{"$f":"SUM(F56:F59)","v":569}]
["Обед"]
["Салат из белокачанной капусты ",100,2.1,2.2,5.6,38,"КП24063"]
["Рассольник лениградский с крупой перловой со сметаной ",250,10,11,7,189,"КП24022"]
["Картофель и овощи, тушенные в соусе с куриным фаршем ",190,7,6,29,280,"КП24034"]
["Компот яблочный ",200,1.6,0,29,111,"КП24055"]
["Хлеб пшеничный ",45,2.48,0.54,14.63,105,"0000065"]
["Хлеб ржаной ",40,3.24,5.6,14.67,95,"ШК00129"]
["Всего в Обед ",{"$f":"SUM(B62:B67)","v":825},{"$f":"SUM(C62:C67)","v":26.42},25.339999999999996,99.89999999999999,818]
["Всего в день ",{"$f":"B60+B68","v":1375},{"$f":"C60+C68","v":45.370000000000005},44.04,166.76999999999998,1387]
[{"$nulls":3},"1-ая неделя /Четверг"]
["Прием пищи, наименование блюда ","Вес блюда ","Пищевые вещества (г)",null,null,"Энерг. ценность ","№ рецептуры "]
[null,null,"Белки ","Жиры","Углеводы"]
[1,2,3,4,5,6,7]
["Завтрак "]
["Плов из говядины ",200,12.9,14,41,339,"КП24050"]
["Чай с сахаром ",200,0.2,0,6.5,27,"КП24045"]
["Хлеб пшеничный ",50,2.75,0.6,16.25,117,"0000065"]
["Йогурт ",100,3.3,3,6.4,71,"КП24058"]
["Всего в Завтрак ",{"$f":"SUM(B75:B78)","v":550},{"$f":"SUM(C75:C78)","v":19.15},{"$f":"SUM(D75:D78)","v":17.6},{"$f":"SUM(E75:E78)","v":70.15},{"$f":"SUM(F75:F78)","v":554}]
["Обед"]
["Суп с фасолью на овощном бульоне ",250,8,7,18,335,"КП24013"]
["Макароны отварные с маслом ",180,6,5.5,30,227,"КП24052"]
["Котлеты куриные \"Наггетсы\" с подливом овощным ",100,7,8,18,146,"КП24039"]
["Компот из свежих плодов (яблоко,лимон)",200,0.2,0.2,12,50,"КП24056"]
["Хлеб пшеничный ",45,2.48,0.54,14.63,105,"0000065"]
["Хлеб ржаной ",40,3.24,5.6,14.67,95,"ШК00129"]
["Всего в Обед ",{"$f":"SUM(B81:B86)","v":815},{"$f":"SUM(C81:C86)","v":26.92},26.839999999999996,107.3,958]
["Всего в день ",{"$f":"B79+B87","v":1365},{"$f":"C79+C87","v":46.07},44.44,177.45,1512]
[{"$nulls":3},"1-ая неделя/Пятница"]
["Прием пищи, наименование блюда ","Вес блюда ","Пищевые вещества (г)",null,null,"Энерг. ценность ","№ рецептуры "]
[null,null,"Белки ","Жиры","Углеводы"]
[1,2,3,4,5,6,7]
["Завтрак "]
["Картофельное пюре ",200,5.5,4.2,24,167,"КП24051"]
["Биточки рыбные с соусом томатным ",100,8.7,12,24,189,"КП24036"]
["Чай витаминизированный \"Витошка\"",200,1,0,2,54,"КП24046"]
["Хлеб пшеничный ",50,2.75,0.6,16.25,117,"0000065"]
["Всего в Завтрак ",{"$f":"SUM(B94:B97)","v":550},{"$f":"SUM(C94:C97)","v":17.95},{"$f":"SUM(D94:D97)","v":16.8},{"$f":"SUM(E94:E97)","v":66.25},{"$f":"SUM(F94:F97)","v":527}]
["Обед"]
["Суп крестьянский с крупой (пшено) со сметаной ",250,5.6,4,14,186,"КП24023"]
["Каша гречневая рассыпчатая ",180,5.8,5.4,27,180,"КП24049"]
["Голубцы ленивые \"Детские\" под соусом томатным ",100,8,10.3,15,175,"КП24009"]
["Компот из смеси сухофруктов ",200,0.9,0.1,21,132,"КП24054"]
["Хлеб пшеничный ",45,2.48,0.54,14.63,105,"0000065"]
["Хлеб ржаной ",40,3.24,5.6,14.67,95,"ШК00129"]
["Всего в Обед ",{"$f":"SUM(B100:B105)","v":815},{"$f":"SUM(C100:C105)","v":26.019999999999996},25.940000000000005,106.3,873]
["Всего в день ",{"$f":"B98+B106","v":1365},{"$f":"C98+C106","v":43.97},42.74000000000001,172.55,1400]
[{"$nulls":3},"2-ая неделя/Понедельник "]
["Прием пищи, наименование блюда ","Вес блюда ","Пищевые вещества (г)",null,null,"Энерг. ценность ","№ рецептуры "]
[null,null,"Белки ","Жиры","Углеводы"]
[1,2,3,4,5,6,7]
["Завтрак "]
["Макароны отварные с маслом ",200,5.7,7,18,234,"КП24052"]
["Котлеты куриные \"Наггетсы\" с подливом овощным ",100,7,8,18,146,"КП24039"]
["Какао с молоком ",200,3.1,4,16,180,"КП24044"]
["Хлеб пшеничный ",50,2.75,0.6,16.25,117,"0000065"]
["Всего в Завтрак ",{"$f":"SUM(B113:B116)","v":550},{"$f":"SUM(C113:C116)","v":18.549999999999997},{"$f":"SUM(D113:D116)","v":19.6},{"$f":"SUM(E113:E116)","v":68.25},{"$f":"SUM(F113:F116)","v":677}]
["Обед"]
["Щи из свежей капусты с картофелем со сметаной ",250,7.4,4.6,30,168,"КП24021"]
["Плов из говядины ",180,11,14,35,398,"КП24050"]
["Чай с сахаром ",200,0.2,0,6.5,27,"КП24045"]
["Хлеб пшеничный ",45,2.48,0.54,14.63,105,"0000065"]
["Хлеб ржаной ",40,3.24,5.6,14.67,95,"ШК00129"]
["Фрукты свеж.(шт.)",100,0.4,0.4,9.8,47,"КП24061"]
["Всего в Обед ",{"$f":"SUM(B119:B124)","v":815},{"$f":"SUM(C119:C124)","v":24.72},{"$f":"SUM(D119:D124)","v":25.14},{"$f":"SUM(E119:E124)","v":110.6},{"$f":"SUM(F119:F124)","v":840}]
["Всего в день ",{"$f":"B117+B125","v":1365},{"$f":"C117+C125","v":43.269999999999996},{"$f":"D117+D125","v":44.74},{"$f":"E117+E125","v":178.85},{"$f":"F117+F125","v":1517}]
[{"$nulls":3},"2-ая неделя/Вторник "]
["Прием пищи, наименование блюда ","Вес блюда ","Пищевые вещества (г)",null,null,"Энерг. ценность ","№ рецептуры "]
[null,null,"Белки ","Жиры","Углеводы"]
[1,2,3,4,5,6,7]
["Завтрак "]
["Каша гречневая рассыпчатая ",200,7.7,7.6,35,251,"КП24049"]
["Котлеты из говядины \"Люля-Кебаб\" с соусом томатным ",100,8,10,11,168,"КП24042"]
["Чай с сахаром ",200,0.2,0,6.5,27,"КП24045"]
["Хлеб пшеничный ",50,2.75,0.6,16.25,117,"0000065"]
["Всего в Завтрак ",{"$f":"SUM(B132:B135)","v":550},{"$f":"SUM(C132:C135)","v":18.65},{"$f":"SUM(D132:D135)","v":18.200000000000003},{"$f":"SUM(E132:E135)","v":68.75},{"$f":"SUM(F132:F135)","v":563}]
["Обед"]
["Суп картофельный с вермишелью",250,8,4,17,125,"КП24012"]
["Картофельное пюре ",180,3.9,4.2,12.3,176,"КП24051"]
["Биточки рыбные с соусом томатным ",100,7.7,10,24,210,"КП24036"]
["Компот яблочный ",200,1.6,0,29,111,"КП24055"]
["Хлеб пшеничный ",45,2.48,0.54,14.63,105,"0000065"]
["Хлеб ржаной ",40,3.24,5.6,14.67,95,"ШК00129"]
["Всего в Обед ",{"$f":"SUM(B138:B143)","v":815},{"$f":"SUM(C138:C143)","v":26.92},24.339999999999996,111.6,822]
["Всего в день ",{"$f":"B136+B144","v":1365},{"$f":"C136+C144","v":45.57},42.54,180.35,1385]
[{"$nulls":3},"2-ая неделя/Среда "]
["Прием пищи, наименование блюда ","Вес блюда ","Пищевые вещества (г)",null,null,"Энерг. ценность ","№ рецептуры "]
[null,null,"Белки ","Жиры","Углеводы"]
[1,2,3,4,5,6,7]
["Завтрак "]
["Каша рисовая молочная ",210,8.3,10.4,34,320,"КП24053"]
["Сырники \"Сюрприз\"",90,6.9,6,18,110,"КП24006"]
["Чай с лимоном и сахаром ",200,0.3,0.3,1,65,"КП24047"]
["Хлеб пшеничный ",50,2.75,0.6,16.25,117,"0000065"]
["Всего в Завтрак ",{"$f":"SUM(B151:B154)","v":550},{"$f":"SUM(C151:C154)","v":18.25},{"$f":"SUM(D151:D154)","v":17.3},{"$f":"SUM(E151:E154)","v":69.25},{"$f":"SUM(F151:F154)","v":612}]
["Обед"]
["Свекольник со сметаной ",250,5,4,13,105,"КП24020"]
["Макароны отварные с маслом ",180,5,6,28,200,"КП24052"]
["Голень куриная запеченная с подливом из томатной пасты ",100,10.2,10.7,15,115,"КП24066"]
["Компот из смеси сухофруктов ",200,0.9,0.1,21,132,"КП24054"]
["Хлеб пшеничный ",45,2.48,0.54,14.63,105,"0000065"]
["Хлеб ржаной ",40,3.24,5.6,14.67,95,"ШК00129"]
["Всего в Обед ",{"$f":"SUM(B157:B162)","v":815},{"$f":"SUM(C157:C162)","v":26.82},26.939999999999998,106.3,752]
["Всего в день ",{"$f":"B155+B163","v":1365},{"$f":"C155+C163","v":45.07},44.239999999999995,175.55,1364]
[{"$nulls":3},"2-ая неделя/Четверг"]
["Прием пищи, наименование блюда ","Вес блюда ","Пищевые вещества (г)",null,null,"Энерг. ценность ","№ рецептуры "]
[null,null,"Белки ","Жиры","Углеводы"]
[1,2,3,4,5,6,7]
["Завтрак "]
["Борщ со сметаной на курином бульоне ",280,11,12,30,158,"КП24065"]
["Какао с молоком ",200,3.1,4,16,180,"КП24044"]
["Хлеб пшеничный ",50,2.75,0.6,16.25,117,"0000065"]
["Кекс для детского питания",32,1,1.2,9,98,"КП24059"]
["Всего в Завтрак ",{"$f":"SUM(B170:B173)","v":562},{"$f":"SUM(C170:C173)","v":17.85},{"$f":"SUM(D170:D173)","v":17.8},{"$f":"SUM(E170:E173)","v":71.25},{"$f":"SUM(F170:F173)","v":553}]
["Обед"]
["Салат из белокачанной капусты ",100,1.8,2.1,7.2,52,"КП24063"]
["Суп-лапша домашняя",250,4,5.8,19,107,"КП24016"]
["Каша гречневая рассыпчатая с овощами и куриным фаршем ",180,11.5,10,40,450,"КП24035"]
["Чай с сахаром ",200,0.2,0,6.5,27,"КП24045"]
["Хлеб пшеничный ",45,2.48,0.54,14.63,105,"0000065"]
["Хлеб ржаной ",40,3.24,5.6,14.67,95,"ШК00129"]
["Всего в Обед ",{"$f":"SUM(B176:B181)","v":815},{"$f":"SUM(C176:C181)","v":23.22},24.04,102,836]
["Всего в день ",{"$f":"B174+B182","v":1377},{"$f":"C174+C182","v":41.07},41.84,173.25,1389]
[{"$nulls":3},"2-ая неделя/Пятница"]
["Прием пищи, наименование блюда ","Вес блюда ","Пищевые вещества (г)",null,null,"Энерг. ценность ","№ рецептуры "]
[null,null,"Белки ","Жиры","Углеводы"]
[1,2,3,4,5,6,7]
["Завтрак "]
["Картофельное пюре ",200,6,5,24,167,"КП24051"]
["Котлкты из говядины \"Боярские\" с соусом томатным ",100,10,14,35,254,"КП24041"]
["Чай с лимоном и сахаром ",200,0.3,0.3,1,65,"КП24047"]
["Хлеб пшеничный ",50,2.75,0.6,16.25,117,"0000065"]
["Всего в Завтрак ",{"$f":"SUM(B189:B192)","v":550},{"$f":"SUM(C189:C192)","v":19.05},{"$f":"SUM(D189:D192)","v":19.900000000000002},{"$f":"SUM(E189:E192)","v":76.25},{"$f":"SUM(F189:F192)","v":603}]
["Обед"]
["Салат из моркови на растительном масле (морковь,сахар)",100,2,4.5,10,110,"КП24062"]
["Суп картофельный с бобовыми и гренками ",250,10,5,16,162,"КП24024"]
["Плов из говядины ",180,6.66,11.25,30,281,"КП24050"]
["Компот из смеси сухофруктов ",200,0.9,0.1,21,132,"КП24054"]
["Хлеб пшеничный ",45,2.48,0.54,14.63,105,"0000065"]
["Хлеб ржаной ",40,3.24,5.6,14.67,95,"ШК00129"]
["Всего в Обед ",{"$f":"SUM(B195:B200)","v":815},{"$f":"SUM(C195:C200)","v":25.28},26.990000000000002,106.3,885]
["Всего в день ",{"$f":"B193+B201","v":1365},{"$f":"C193+C201","v":44.33},46.89,182.55,1488]
["Итого:",null,{"$f":"C31+C50+C69+C88+C107+C126+C145+C164+C183+C202","v":446.46},{"$f":"D31+D50+D69+D88+D107+D126+D145+D164+D183+D202","v":441.65},{"$f":"E31+E50+E69+E88+E107+E126+E145+E164+E183+E202","v":1763.3699999999997},{"$f":"F31+F50+F69+F88+F107+F126+F145+F164+F183+F202","v":14303}]

{"sheet":"с 7 до 11 лет 2 смена ","index":2,"n_rows":203,"n_cols":7,"rows_kept":203,"merged":[[3,0,3,6],[4,0,4,6],[5,0,5,6],[11,3,11,6],[12,0,13,0],[12,1,13,1],[12,2,12,4],[12,5,13,5],[12,6,13,6],[31,3,31,6],[32,0,33,0],[32,1,33,1],[32,2,32,4],[32,5,33,5],[32,6,33,6],[50,3,50,6],[51,0,52,0],[51,1,52,1],[51,2,51,4],[51,5,52,5],[51,6,52,6],[69,3,69,6],[70,0,71,0],[70,1,71,1],[70,2,70,4],[70,5,71,5],[70,6,71,6],[88,3,88,6],[89,0,90,0],[89,1,90,1],[89,2,89,4],[89,5,90,5],[89,6,90,6],[107,3,107,6],[108,0,109,0],[108,1,109,1],[108,2,108,4],[108,5,109,5],[108,6,109,6],[126,3,126,6],[127,0,128,0],[127,1,128,1],[127,2,127,4],[127,5,128,5],[127,6,128,6],[145,3,145,6],[146,0,147,0],[146,1,147,1],[146,2,146,4],[146,5,147,5],[146,6,147,6],[164,3,164,6],[165,0,166,0],[165,1,166,1],[165,2,165,4],[165,5,166,5],[165,6,166,6],[183,3,183,6],[184,0,185,0],[184,1,185,1],[184,2,184,4],[184,5,185,5],[184,6,185,6],[202,0,202,1],[203,0,203,1]]}
[]
[]
[]
["ПРИМЕРНОЕ МЕНЮ И ПИЩЕВАЯ ЦЕННОСТЬ "]
["ПРИГОТАВЛИВАЕМЫХ БЛЮД "]
["(2-х недельное)"]
[{"$f":"'с 7 до 11 лет'!A7","v":"МБОУ СОШ с.Красная Горка"}]
[{"$f":"'с 7 до 11 лет'!A8","v":"Директор школы: Нуртдинов С.Р."}]
[{"$f":"'с 7 до 11 лет'!A9","v":"от 28 августа 2024 года"}]
["Сезон: Осень-зима "]
["Возростная категория: Начальные классы"]
[{"$nulls":3},"1-ая неделя/Понедельник "]
["Прием пищи, наименование блюда ","Вес блюда ","Пищевые вещества (г)",null,null,"Энерг. ценность ","№ рецептуры "]
[null,null,"Белки ","Жиры","Углеводы"]
[1,2,3,4,5,6,7]
["Обед 2 смена "]
["Щи из свежей капусты с картофелем со сметаной ",200,1.4,3.98,20,154,"КП24026"]
["Каша гречневая рассыпчатая ",150,5.8,5.4,27,180,"КП24049"]
["Котлеты куриные с соусом томатным ",90,12,8,19,293,"КП24032"]
["Чай с сахаром ",200,0.2,0,6.5,27,"КП24045"]
["Хлеб пшеничный витаминизированный ",35,1.93,0.42,11.38,82,"0000065"]
["Хлеб ржаной витаминизированный ",30,2.43,4.2,11,71,"ШК00129"]
["Всего в Обед 2 ",{"$f":"SUM(B17:B22)","v":705},{"$f":"SUM(C17:C22)","v":23.759999999999998},22.000000000000004,94.88,807]
["Полдник 2 смена "]
["Макароны отварные с томатным соусом ",180,7.5,7.5,21,210,"КП24030"]
["Какао с молоком ",200,3.1,4,16,180,"КП24044"]
["Хлеб пшеничный витаминизированный ",40,2.2,0.48,13,94,"0000065"]
["Сыр порционный",12,2.8,3.5,0,44,"КП24060"]
["Фрукты свеж.(шт.)",100,0.4,0.4,9.8,47,"КП24061"]
["Всего в Полдник 2 ",{"$f":"SUM(B25:B29)","v":532},{"$f":"SUM(C25:C29)","v":16},15.88,59.8,575]
["Всего в день ",{"$f":"B23+B30","v":1237},{"$f":"C23+C30","v":39.76},37.88,154.68,1382]
[{"$nulls":3},"1-ая неделя/Вторник"]
["Прием пищи, наименование блюда ","Вес блюда ","Пищевые вещества (г)",null,null,"Энерг. ценность ","№ рецептуры "]
[null,null,"Белки ","Жиры","Углеводы"]
[1,2,3,4,5,6,7]
["Обед 2 смена "]
["Суп картофельный с вермишелью",200,8,4,15,111,"КП24012"]
["Солянка из сборных овощей ",150,1.2,11,5.3,108,"КП24064"]
["Котлеты из говядины \"Боярские\" с соусом томатным ",90,9,14,24,231,"КП24040"]
["Компот из смеси сухофруктов ",200,0.9,0.1,21,132,"КП24054"]
["Хлеб пшеничный витаминизированный ",35,1.93,0.42,11.38,82,"0000065"]
["Хлеб ржаной витаминизированный ",30,2.43,4.2,11,71,"ШК00129"]
["Всего в Обед 2 ",{"$f":"SUM(B37:B42)","v":705},{"$f":"SUM(C37:C42)","v":23.459999999999997},33.720000000000006,87.67999999999999,735]
["Полдник 2 смена "]
["Каша \"Дружба\" молочная ",170,8,5.1,25,240,"КП24048"]
["Сырники из творога с соусом молочным ",90,5.4,9,13.5,120,"КП24057"]
["Чай с сахаром ",200,0.2,0,6.5,27,"КП24045"]
["Хлеб пшеничный витаминизированный ",40,2.2,0.48,13,94,"0000065"]
["Всего в Полдник 2 ",{"$f":"SUM(B45:B48)","v":500},{"$f":"SUM(C45:C48)","v":15.8},{"$f":"SUM(D45:D48)","v":14.58},{"$f":"SUM(E45:E48)","v":58},{"$f":"SUM(F45:F48)","v":481}]
["Всего в день ",{"$f":"B43+B49","v":1205},{"$f":"C43+C49","v":39.26},48.300000000000004,145.68,1216]
[{"$nulls":3},"1-ая неделя/Среда "]
["Прием пищи, наименование блюда ","Вес блюда ","Пищевые вещества (г)",null,null,"Энерг. ценность ","№ рецептуры "]
[null,null,"Белки ","Жиры","Углеводы"]
[1,2,3,4,5,6,7]
["Обед 2 смена "]
["Салат из белокачанной капусты ",60,1.1,1.2,4.6,33,"КП24063"]
["Рассольник лениградский с крупой перловой со сметаной ",200,9,10,4.6,147,"КП24018"]
["Картофель и овощи, тушенные в соусе с куриным фаршем ",190,7,6,29,280,"КП24034"]
["Компот яблочный ",200,1.6,0,29,111,"КП24055"]
["Хлеб пшеничный витаминизированный ",35,1.93,0.42,11.38,82,"0000065"]
["Хлеб ржаной витаминизированный ",30,2.43,4.2,11,71,"ШК00129"]
["Всего в Обед 2 ",{"$f":"SUM(B56:B61)","v":715},{"$f":"SUM(C56:C61)","v":23.060000000000002},21.82,89.58,724]
["Полдник 2 смена "]
["Каша гречневая рассыпчатая ",170,6,6.1,30.4,204,"КП24049"]
["Голубцы ленивые \"Детские\" под соусом томатным ",90,7.6,9.32,11.72,155,"КП24008"]
["Чай с сахаром ",200,0.2,0,6.5,27,"КП24045"]
["Хлеб пшеничный витаминизированный ",40,2.2,0.48,11.38,94,"0000065"]
["Всего в Полдник 2 ",{"$f":"SUM(B64:B67)","v":500},{"$f":"SUM(C64:C67)","v":16},{"$f":"SUM(D64:D67)","v":15.9},{"$f":"SUM(E64:E67)","v":60},{"$f":"SUM(F64:F67)","v":480}]
["Всего в день ",{"$f":"B62+B68","v":1215},{"$f":"C62+C68","v":39.06},37.72,149.57999999999998,1204]
[{"$nulls":3},"1-ая неделя /Четверг"]
["Прием пищи, наименование блюда ","Вес блюда ","Пищевые вещества (г)",null,null,"Энерг. ценность ","№ рецептуры "]
[null,null,"Белки ","Жиры","Углеводы"]
[1,2,3,4,5,6,7]
["Обед 2 смена "]
["Суп с фасолью на овощном бульоне ",200,6,6,15.4,305,"КП24013"]
["Макароны отварные с маслом ",150,4,6,15.2,200,"КП24052"]
["Котлеты куриные \"Наггетсы\" с подливом овощным ",90,6,7.2,15,120,"КП24007"]
["Компот из свежих плодов (яблоко,лимон)",200,0.2,0.2,12,50,"КП24056"]
["Хлеб пшеничный витаминизированный ",35,1.93,0.42,11.38,82,"0000065"]
["Хлеб ржаной витаминизированный ",30,2.43,4.2,11,71,"ШК00129"]
["Всего в Обед 2 ",{"$f":"SUM(B75:B80)","v":705},{"$f":"SUM(C75:C80)","v":20.56},24.02,79.98,828]
["Полдник 2 смена "]
["Плов из говядины ",160,10.3,11.25,28.3,350,"КП24050"]
["Чай с сахаром ",200,0.2,0,6.5,27,"КП24045"]
["Хлеб пшеничный витаминизированный ",40,2.2,0.48,13,94,"0000065"]
["Йогурт ",100,3.3,3,6.4,71,"КП24058"]
["Всего в Полдник 2 ",{"$f":"SUM(B83:B86)","v":500},{"$f":"SUM(C83:C86)","v":16},{"$f":"SUM(D83:D86)","v":14.73},{"$f":"SUM(E83:E86)","v":54.199999999999996},{"$f":"SUM(F83:F86)","v":542}]
["Всего в день ",{"$f":"B81+B87","v":1205},{"$f":"C81+C87","v":36.56},38.75,134.18,1370]
[{"$nulls":3},"1-ая неделя/Пятница"]
["Прием пищи, наименование блюда ","Вес блюда ","Пищевые вещества (г)",null,null,"Энерг. ценность ","№ рецептуры "]
[null,null,"Белки ","Жиры","Углеводы"]
[1,2,3,4,5,6,7]
["Обед 2 смена "]
["Суп крестьянский с крупой (пшено) со сметаной ",200,4.6,3,12,170,"КП24015"]
["Каша гречневая рассыпчатая ",150,5.8,5.4,27,180,"КП24049"]
["Голубцы ленивые \"Детские\" под соусом томатным ",90,7.6,9.32,11.72,155,"КП24008"]
["Компот из смеси сухофруктов ",200,0.9,0.1,21,132,"КП24054"]
["Хлеб пшеничный витаминизированный ",35,1.93,0.42,11.38,82,"0000065"]
["Хлеб ржаной витаминизированный ",30,2.43,4.2,11,71,"ШК00129"]
["Всего в Обед 2 ",{"$f":"SUM(B94:B99)","v":705},{"$f":"SUM(C94:C99)","v":23.259999999999998},22.44,94.1,790]
["Полдник 2 смена "]
["Картофельное пюре ",170,4.5,4,22,180,"КП24051"]
["Биточки рыбные с соусом томатным ",90,7.7,9.8,21,183,"КП24033"]
["Чай витаминизированный \"Витошка\"",200,1,0,2,54,"КП24046"]
["Хлеб пшеничный витаминизированный ",40,2.2,0.48,13,94,"0000065"]
["Всего в Полдник 2 ",{"$f":"SUM(B102:B105)","v":500},{"$f":"SUM(C102:C105)","v":15.399999999999999},{"$f":"SUM(D102:D105)","v":14.280000000000001},{"$f":"SUM(E102:E105)","v":58},{"$f":"SUM(F102:F105)","v":511}]
["Всего в день ",{"$f":"B100+B106","v":1205},{"$f":"C100+C106","v":38.66},36.72,152.1,1301]
[{"$nulls":3},"2-ая неделя/Понедельник "]
["Прием пищи, наименование блюда ","Вес блюда ","Пищевые вещества (г)",null,null,"Энерг. ценность ","№ рецептуры "]
[null,null,"Белки ","Жиры","Углеводы"]
[1,2,3,4,5,6,7]
["Обед 2 смена "]
["Щи из свежей капусты с картофелем со сметаной ",200,5.4,3.98,20,154,"КП24026"]
["Плов из говядины ",150,10,11,28,324,"КП24050"]
["Чай с сахаром ",200,0.2,0,6.5,27,"КП24045"]
["Хлеб пшеничный витаминизированный ",35,1.93,0.42,11.38,82,"0000065"]
["Хлеб ржаной витаминизированный ",30,2.43,4.2,11,71,"ШК00129"]
["Фрукты свеж.(шт.)",100,0.4,0.4,9.8,47,"КП24061"]
["Всего в Обед 2 ",{"$f":"SUM(B113:B118)","v":715},{"$f":"SUM(C113:C118)","v":20.36},{"$f":"SUM(D113:D118)","v":20},{"$f":"SUM(E113:E118)","v":86.67999999999999},{"$f":"SUM(F113:F118)","v":705}]
["Полдник 2 смена "]
["Макароны отварные с маслом ",170,4.7,6.8,16,226.7,"КП24052"]
["Котлеты куриные \"Наггетсы\" с подливом овощным ",90,6,7.2,15,87,"КП24007"]
["Какао с молоком ",200,3.1,4,16,180,"КП24044"]
["Хлеб пшеничный витаминизированный ",40,2.2,0.48,13,94,"0000065"]
["Всего в Полдник 2 ",{"$f":"SUM(B121:B124)","v":500},{"$f":"SUM(C121:C124)","v":16},{"$f":"SUM(D121:D124)","v":18.48},{"$f":"SUM(E121:E124)","v":60},{"$f":"SUM(F121:F124)","v":587.7}]
["Всего в день ",{"$f":"B119+B125","v":1215},{"$f":"C119+C125","v":36.36},38.480000000000004,146.68,1292.7]
[{"$nulls":3},"2-ая неделя/Вторник "]
["Прием пищи, наименование блюда ","Вес блюда ","Пищевые вещества (г)",null,null,"Энерг. ценность ","№ рецептуры "]
[null,null,"Белки ","Жиры","Углеводы"]
[1,2,3,4,5,6,7]
["Обед 2 смена "]
["Суп картофельный с вермишелью",200,8,4,15,111,"КП24012"]
["Картофельное пюре ",150,3.9,3.8,12.3,149,"КП24051"]
["Биточки рыбные с соусом томатным ",90,7.7,9.8,21,183,"КП24033"]
["Компот яблочный ",200,1.6,0,29,111,"КП24055"]
["Хлеб пшеничный витаминизированный ",35,1.93,0.42,11.38,82,"0000065"]
["Хлеб ржаной витаминизированный ",30,2.43,4.2,11,71,"ШК00129"]
["Всего в Обед 2 ",{"$f":"SUM(B132:B137)","v":705},{"$f":"SUM(C132:C137)","v":25.560000000000002},22.220000000000002,99.67999999999999,707]
["Полдник 2 смена "]
["Каша гречневая рассыпчатая ",170,6.6,6.12,30.4,204,"КП24049"]
["Котлеты из говядины \"Люля-Кебаб\" с соусом томатным ",90,7,6,10.1,146,"КП24005"]
["Чай с сахаром ",200,0.2,0,6.5,27,"КП24045"]
["Хлеб пшеничный витаминизированный ",40,2.2,0.48,13,94,"0000065"]
["Всего в Полдник 2 ",{"$f":"SUM(B140:B143)","v":500},{"$f":"SUM(C140:C143)","v":16},{"$f":"SUM(D140:D143)","v":12.600000000000001},{"$f":"SUM(E140:E143)","v":60},{"$f":"SUM(F140:F143)","v":471}]
["Всего в день ",{"$f":"B138+B144","v":1205},{"$f":"C138+C144","v":41.56},34.82000000000001,159.68,1178]
[{"$nulls":3},"2-ая неделя/Среда "]
["Прием пищи, наименование блюда ","Вес блюда ","Пищевые вещества (г)",null,null,"Энерг. ценность ","№ рецептуры "]
[null,null,"Белки ","Жиры","Углеводы"]
[1,2,3,4,5,6,7]
["Обед 2 смена "]
["Свекольник со сметаной ",200,5,4,13,105,"КП24020"]
["Макароны отварные с маслом ",150,4,6,15.2,200,"КП24052"]
["Голень куриная запеченная с подливом из томатной пасты ",90,10,11,15,115,"КП24067"]
["Компот из смеси сухофруктов ",200,0.9,0.1,21,132,"КП24054"]
["Хлеб пшеничный витаминизированный ",35,1.93,0.42,11.38,82,"0000065"]
["Хлеб ржаной витаминизированный ",30,2.43,4.2,11,71,"ШК00129"]
["Всего в Обед 2 ",{"$f":"SUM(B151:B156)","v":705},{"$f":"SUM(C151:C156)","v":24.259999999999998},25.720000000000002,86.58,705]
["Полдник 2 смена  "]
["Каша рисовая молочная ",170,6.6,9.2,20,266,"КП24053"]
["Сырники \"Сюрприз\"",90,6.9,6,18,110,"КП24006"]
["Чай с лимоном и сахаром ",200,0.3,0.3,1,65,"КП24047"]
["Хлеб пшеничный витаминизированный ",40,2.2,0.48,13,94,"0000065"]
["Всего в Полдник 2 ",{"$f":"SUM(B159:B162)","v":500},{"$f":"SUM(C159:C162)","v":16},{"$f":"SUM(D159:D162)","v":15.98},{"$f":"SUM(E159:E162)","v":52},{"$f":"SUM(F159:F162)","v":535}]
["Всего в день ",{"$f":"B157+B163","v":1205},{"$f":"C157+C163","v":40.26},41.7,138.57999999999998,1240]
[{"$nulls":3},"2-ая неделя/Четверг"]
["Прием пищи, наименование блюда ","Вес блюда ","Пищевые вещества (г)",null,null,"Энерг. ценность ","№ рецептуры "]
[null,null,"Белки ","Жиры","Углеводы"]
[1,2,3,4,5,6,7]
["Обед 2 смена "]
["Салат из белокачанной капусты ",90,1.6,1.8,6.9,49.5,"КП24063"]
["Суп-лапша домашняя",200,2.4,4.8,11.8,95.6,"КП24016"]
["Каша гречневая рассыпчатая с овощами и куриным фаршем ",150,11.5,10,40,450,"КП24035"]
["Чай с сахаром ",200,0.2,0,6.5,27,"КП24045"]
["Хлеб пшеничный витаминизированный ",35,1.93,0.42,11.38,82,"0000065"]
["Хлеб ржаной витаминизированный ",30,2.43,4.2,11,71,"ШК00129"]
["Всего в Обед 2 ",{"$f":"SUM(B170:B175)","v":705},{"$f":"SUM(C170:C175)","v":20.06},21.220000000000002,87.58,775.1]
["Полдник 2 смена "]
["Борщ со сметаной на курином бульоне ",230,9,8,21,103,"КП24029"]
["Какао с молоком ",200,3.1,4,16,180,"КП24044"]
["Хлеб пшеничный витаминизированный ",40,2.2,0.48,13,94,"0000065"]
["Кекс для детского питания",32,1,1.2,9,98,"КП24059"]
["Всего в Полдник 2  ",{"$f":"SUM(B178:B181)","v":502},{"$f":"SUM(C178:C181)","v":15.3},{"$f":"SUM(D178:D181)","v":13.68},{"$f":"SUM(E178:E181)","v":59},{"$f":"SUM(F178:F181)","v":475}]
["Всего в день ",{"$f":"B176+B182","v":1207},{"$f":"C176+C182","v":35.36},34.900000000000006,146.57999999999998,1250.1]
[{"$nulls":3},"2-ая неделя/Пятница"]
["Прием пищи, наименование блюда ","Вес блюда ","Пищевые вещества (г)",null,null,"Энерг. ценность ","№ рецептуры "]
[null,null,"Белки ","Жиры","Углеводы"]
[1,2,3,4,5,6,7]
["Обед 2 смена "]
["Салат из моркови на растительном масле (морковь,сахар)",90,1,4.3,9.1,52,"КП24062"]
["Суп картофельный с бобовыми и гренками ",200,9,5,16,162,"КП24010"]
["Плов из говядины ",150,10,11,28,324,"КП24050"]
["Компот из смеси сухофруктов ",200,0.9,0.1,21,132,"КП24054"]
["Хлеб пшеничный витаминизированный ",35,1.93,0.42,11.38,82,"0000065"]
["Хлеб ржаной витаминизированный ",30,2.43,4.2,11,71,"ШК00129"]
["Всего в Обед ",{"$f":"SUM(B189:B194)","v":705},{"$f":"SUM(C189:C194)","v":25.259999999999998},25.020000000000003,96.47999999999999,823]
["Полдник 2 смена "]
["Картофельное пюре ",170,4.5,4,22,180,"КП24051"]
["Котлкты из говядины \"Боярские\" с соусом томатным ",90,9,11,24,231,"КП24040"]
["Чай с лимоном и сахаром ",200,0.3,0.3,1,65,"КП24047"]
["Хлеб пшеничный витаминизированный ",40,2.2,0.48,13,94,"0000065"]
["Всего в Завтрак ",{"$f":"SUM(B197:B200)","v":500},{"$f":"SUM(C197:C200)","v":16},{"$f":"SUM(D197:D200)","v":15.780000000000001},{"$f":"SUM(E197:E200)","v":60},{"$f":"SUM(F197:F200)","v":570}]
["Всего в день ",{"$f":"B195+B201","v":1205},{"$f":"C195+C201","v":41.26},40.800000000000004,156.48,1393]
["Итого:",null,{"$f":"C31+C50+C69+C88+C107+C126+C145+C164+C183+C202","v":388.09999999999997},{"$f":"D31+D50+D69+D88+D107+D126+D145+D164+D183+D202","v":390.07},{"$f":"E31+E50+E69+E88+E107+E126+E145+E164+E183+E202","v":1484.22},{"$f":"F31+F50+F69+F88+F107+F126+F145+F164+F183+F202","v":12826.800000000001}]

{"sheet":"с 12 и старше 2 смена ","index":3,"n_rows":203,"n_cols":7,"rows_kept":203,"merged":[[3,0,3,6],[4,0,4,6],[5,0,5,6],[11,3,11,6],[12,0,13,0],[12,1,13,1],[12,2,12,4],[12,5,13,5],[12,6,13,6],[31,3,31,6],[32,0,33,0],[32,1,33,1],[32,2,32,4],[32,5,33,5],[32,6,33,6],[50,3,50,6],[51,0,52,0],[51,1,52,1],[51,2,51,4],[51,5,52,5],[51,6,52,6],[69,3,69,6],[70,0,71,0],[70,1,71,1],[70,2,70,4],[70,5,71,5],[70,6,71,6],[88,3,88,6],[89,0,90,0],[89,1,90,1],[89,2,89,4],[89,5,90,5],[89,6,90,6],[107,3,107,6],[108,0,109,0],[108,1,109,1],[108,2,108,4],[108,5,109,5],[108,6,109,6],[126,3,126,6],[127,0,128,0],[127,1,128,1],[127,2,127,4],[127,5,128,5],[127,6,128,6],[145,3,145,6],[146,0,147,0],[146,1,147,1],[146,2,146,4],[146,5,147,5],[146,6,147,6],[164,3,164,6],[165,0,166,0],[165,1,166,1],[165,2,165,4],[165,5,166,5],[165,6,166,6],[183,3,183,6],[184,0,185,0],[184,1,185,1],[184,2,184,4],[184,5,185,5],[184,6,185,6],[202,0,202,1],[203,0,203,1]]}
[]
[]
[]
["ПРИМЕРНОЕ МЕНЮ И ПИЩЕВАЯ ЦЕННОСТЬ "]
["ПРИГОТАВЛИВАЕМЫХ БЛЮД "]
["(2-х недельное)"]
[{"$f":"'с 7 до 11 лет'!A7","v":"МБОУ СОШ с.Красная Горка"}]
[{"$f":"'с 7 до 11 лет'!A8","v":"Директор школы: Нуртдинов С.Р."}]
[{"$f":"'с 7 до 11 лет'!A9","v":"от 28 августа 2024 года"}]
["Сезон: Осень-зима "]
["Возростная категория: Старшие классы "]
[{"$nulls":3},"1-ая неделя/Понедельник "]
["Прием пищи, наименование блюда ","Вес блюда ","Пищевые вещества (г)",null,null,"Энерг. ценность ","№ рецептуры "]
[null,null,"Белки ","Жиры","Углеводы"]
[1,2,3,4,5,6,7]
["Обед 2 смена "]
["Щи из свежей капусты с картофелем со сметаной ",250,2,5,10,98,"КП24021"]
["Каша гречневая рассыпчатая ",180,6,5.4,30,210,"КП24049"]
["Котлеты куриные с соусом томатным ",100,13,10,25,320,"КП24037"]
["Чай с сахаром ",200,0.2,0,6.5,27,"КП24045"]
["Хлеб пшеничный ",45,2.48,0.54,14.63,105,"0000065"]
["Хлеб ржаной ",40,3.24,5.6,14.67,95,"ШК00129"]
["Всего в Обед 2 ",{"$f":"SUM(B17:B22)","v":815},{"$f":"SUM(C17:C22)","v":26.92},26.54,100.8,855]
["Полдник 2 смена"]
["Макароны отварные с томатным соусом ",200,9.6,11.2,37.95,291,"КП24030"]
["Какао с молоком ",200,3.1,4,16,180,"КП24044"]
["Хлеб пшеничный ",50,2.75,0.6,16.25,117,"0000065"]
["Сыр порционный",12,2.8,3.5,0,44,"КП24060"]
["Фрукты свеж.(шт.)",100,0.4,0.4,9.8,47,"КП24061"]
["Всего в Полдник 2  ",{"$f":"SUM(B25:B29)","v":562},{"$f":"SUM(C25:C29)","v":18.65},19.699999999999996,80,679]
["Всего в день ",{"$f":"B23+B30","v":1377},{"$f":"C23+C30","v":45.57},46.239999999999995,180.8,1534]
[{"$nulls":3},"1-ая неделя/Вторник"]
["Прием пищи, наименование блюда ","Вес блюда ","Пищевые вещества (г)",null,null,"Энерг. ценность ","№ рецептуры "]
[null,null,"Белки ","Жиры","Углеводы"]
[1,2,3,4,5,6,7]
["Обед 2 смена "]
["Суп картофельный с вермишелью",250,9,3,16,114,"КП24012"]
["Солянка из сборных овощей ",180,1.2,0.5,6.7,110,"КП24064"]
["Котлеты из говядины \"Боярские\" с соусом томатным ",100,10,16,28,267,"КП24041"]
["Компот из смеси сухофруктов ",200,0.9,0.1,21,132,"КП24054"]
["Хлеб пшеничный ",45,2.48,0.54,14.63,105,"0000065"]
["Хлеб ржаной ",40,3.24,5.6,14.67,95,"ШК00129"]
["Всего в Обед 2 ",{"$f":"SUM(B37:B42)","v":815},{"$f":"SUM(C37:C42)","v":26.82},25.740000000000002,101,823]
["Полдник 2 смена"]
["Каша \"Дружба\" молочная ",210,11,8.6,38,240,"КП24048"]
["Сырники из творога с соусом молочным ",90,5.4,9,13.5,120,"КП24057"]
["Чай с сахаром ",200,0.2,0,6.5,27,"КП24045"]
["Хлеб пшеничный ",50,2.75,0.6,16.25,117,"0000065"]
["Всего в Полдник 2  ",{"$f":"SUM(B45:B48)","v":550},{"$f":"SUM(C45:C48)","v":19.349999999999998},{"$f":"SUM(D45:D48)","v":18.200000000000003},{"$f":"SUM(E45:E48)","v":74.25},{"$f":"SUM(F45:F48)","v":504}]
["Всего в день ",{"$f":"B43+B49","v":1365},{"$f":"C43+C49","v":46.17},43.940000000000005,175.25,1327]
[{"$nulls":3},"1-ая неделя/Среда "]
["Прием пищи, наименование блюда ","Вес блюда ","Пищевые вещества (г)",null,null,"Энерг. ценность ","№ рецептуры "]
[null,null,"Белки ","Жиры","Углеводы"]
[1,2,3,4,5,6,7]
["Обед 2 смена "]
["Салат из белокачанной капусты ",100,2.1,2.2,5.6,38,"КП24063"]
["Рассольник лениградский с крупой перловой со сметаной ",250,10,11,7,189,"КП24022"]
["Картофель и овощи, тушенные в соусе с куриным фаршем ",190,7,6,29,280,"КП24034"]
["Компот яблочный ",200,1.6,0,29,111,"КП24055"]
["Хлеб пшеничный ",45,2.48,0.54,14.63,105,"0000065"]
["Хлеб ржаной ",40,3.24,5.6,14.67,95,"ШК00129"]
["Всего в Обед 2 ",{"$f":"SUM(B56:B61)","v":825},{"$f":"SUM(C56:C61)","v":26.42},25.339999999999996,99.89999999999999,818]
["Полдник 2 смена"]
["Каша гречневая рассыпчатая ",200,7,7.1,32.4,254,"КП24049"]
["Голубцы ленивые \"Детские\" под соусом томатным ",100,9,11,11.72,171,"КП24009"]
["Чай с сахаром ",200,0.2,0,6.5,27,"КП24045"]
["Хлеб пшеничный ",50,2.75,0.6,16.25,117,"0000065"]
["Всего в Полдник 2  ",{"$f":"SUM(B64:B67)","v":550},{"$f":"SUM(C64:C67)","v":18.95},{"$f":"SUM(D64:D67)","v":18.700000000000003},{"$f":"SUM(E64:E67)","v":66.87},{"$f":"SUM(F64:F67)","v":569}]
["Всего в день ",{"$f":"B62+B68","v":1375},{"$f":"C62+C68","v":45.370000000000005},44.04,166.76999999999998,1387]
[{"$nulls":3},"1-ая неделя /Четверг"]
["Прием пищи, наименование блюда ","Вес блюда ","Пищевые вещества (г)",null,null,"Энерг. ценность ","№ рецептуры "]
[null,null,"Белки ","Жиры","Углеводы"]
[1,2,3,4,5,6,7]
["Обед 2 смена "]
["Суп с фасолью на овощном бульоне ",250,8,7,18,335,"КП24013"]
["Макароны отварные с маслом ",180,6,5.5,30,227,"КП24052"]
["Котлеты куриные \"Наггетсы\" с подливом овощным ",100,7,8,18,146,"КП24039"]
["Компот из свежих плодов (яблоко,лимон)",200,0.2,0.2,12,50,"КП24056"]
["Хлеб пшеничный ",45,2.48,0.54,14.63,105,"0000065"]
["Хлеб ржаной ",40,3.24,5.6,14.67,95,"ШК00129"]
["Всего в Обед 2 ",{"$f":"SUM(B75:B80)","v":815},{"$f":"SUM(C75:C80)","v":26.92},26.839999999999996,107.3,958]
["Полдник 2 смена"]
["Плов из говядины ",200,12.9,14,41,339,"КП24050"]
["Чай с сахаром ",200,0.2,0,6.5,27,"КП24045"]
["Хлеб пшеничный ",50,2.75,0.6,16.25,117,"0000065"]
["Йогурт ",100,3.3,3,6.4,71,"КП24058"]
["Всего в Полдник 2  ",{"$f":"SUM(B83:B86)","v":550},{"$f":"SUM(C83:C86)","v":19.15},{"$f":"SUM(D83:D86)","v":17.6},{"$f":"SUM(E83:E86)","v":70.15},{"$f":"SUM(F83:F86)","v":554}]
["Всего в день ",{"$f":"B81+B87","v":1365},{"$f":"C81+C87","v":46.07},44.44,177.45,1512]
[{"$nulls":3},"1-ая неделя/Пятница"]
["Прием пищи, наименование блюда ","Вес блюда ","Пищевые вещества (г)",null,null,"Энерг. ценность ","№ рецептуры "]
[null,null,"Белки ","Жиры","Углеводы"]
[1,2,3,4,5,6,7]
["Обед 2 смена "]
["Суп крестьянский с крупой (пшено) со сметаной ",250,5.6,4,14,186,"КП24023"]
["Каша гречневая рассыпчатая ",180,5.8,5.4,27,180,"КП24049"]
["Голубцы ленивые \"Детские\" под соусом томатным ",100,8,10.3,15,175,"КП24009"]
["Компот из смеси сухофруктов ",200,0.9,0.1,21,132,"КП24054"]
["Хлеб пшеничный ",45,2.48,0.54,14.63,105,"0000065"]
["Хлеб ржаной ",40,3.24,5.6,14.67,95,"ШК00129"]
["Всего в Обед 2 ",{"$f":"SUM(B94:B99)","v":815},{"$f":"SUM(C94:C99)","v":26.019999999999996},25.940000000000005,106.3,873]
["Полдник 2 смена"]
["Картофельное пюре ",200,5.5,4.2,24,167,"КП24051"]
["Биточки рыбные с соусом томатным ",100,8.7,12,24,189,"КП24036"]
["Чай витаминизированный \"Витошка\"",200,1,0,2,54,"КП24046"]
["Хлеб пшеничный ",50,2.75,0.6,16.25,117,"0000065"]
["Всего в Полдник 2  ",{"$f":"SUM(B102:B105)","v":550},{"$f":"SUM(C102:C105)","v":17.95},{"$f":"SUM(D102:D105)","v":16.8},{"$f":"SUM(E102:E105)","v":66.25},{"$f":"SUM(F102:F105)","v":527}]
["Всего в день ",{"$f":"B100+B106","v":1365},{"$f":"C100+C106","v":43.97},42.74000000000001,172.55,1400]
[{"$nulls":3},"2-ая неделя/Понедельник "]
["Прием пищи, наименование блюда ","Вес блюда ","Пищевые вещества (г)",null,null,"Энерг. ценность ","№ рецептуры "]
[null,null,"Белки ","Жиры","Углеводы"]
[1,2,3,4,5,6,7]
["Обед 2 смена "]
["Щи из свежей капусты с картофелем со сметаной ",250,7.4,4.6,30,168,"КП24021"]
["Плов из говядины ",180,11,14,35,398,"КП24050"]
["Чай с сахаром ",200,0.2,0,6.5,27,"КП24045"]
["Хлеб пшеничный ",45,2.48,0.54,14.63,105,"0000065"]
["Хлеб ржаной ",40,3.24,5.6,14.67,95,"ШК00129"]
["Фрукты свеж.(шт.)",100,0.4,0.4,9.8,47,"КП24061"]
["Всего в Обед 2 ",{"$f":"SUM(B113:B118)","v":815},{"$f":"SUM(C113:C118)","v":24.72},{"$f":"SUM(D113:D118)","v":25.14},{"$f":"SUM(E113:E118)","v":110.6},{"$f":"SUM(F113:F118)","v":840}]
["Полдник 2 смена"]
["Макароны отварные с маслом ",200,5.7,7,18,234,"КП24052"]
["Котлеты куриные \"Наггетсы\" с подливом овощным ",100,7,8,18,146,"КП24039"]
["Какао с молоком ",200,3.1,4,16,180,"КП24044"]
["Хлеб пшеничный ",50,2.75,0.6,16.25,117,"0000065"]
["Всего в Полдник 2  ",{"$f":"SUM(B121:B124)","v":550},{"$f":"SUM(C121:C124)","v":18.549999999999997},{"$f":"SUM(D121:D124)","v":19.6},{"$f":"SUM(E121:E124)","v":68.25},{"$f":"SUM(F121:F124)","v":677}]
["Всего в день ",{"$f":"B119+B125","v":1365},{"$f":"C119+C125","v":43.269999999999996},44.74,178.85,1517]
[{"$nulls":3},"2-ая неделя/Вторник "]
["Прием пищи, наименование блюда ","Вес блюда ","Пищевые вещества (г)",null,null,"Энерг. ценность ","№ рецептуры "]
[null,null,"Белки ","Жиры","Углеводы"]
[1,2,3,4,5,6,7]
["Обед 2 смена "]
["Суп картофельный с вермишелью",250,8,4,17,125,"КП24012"]
["Картофельное пюре ",180,3.9,4.2,12.3,176,"КП24051"]
["Биточки рыбные с соусом томатным ",100,7.7,10,24,210,"КП24036"]
["Компот яблочный ",200,1.6,0,29,111,"КП24055"]
["Хлеб пшеничный ",45,2.48,0.54,14.63,105,"0000065"]
["Хлеб ржаной ",40,3.24,5.6,14.67,95,"ШК00129"]
["Всего в Обед 2 ",{"$f":"SUM(B132:B137)","v":815},{"$f":"SUM(C132:C137)","v":26.92},24.339999999999996,111.6,822]
["Полдник 2 смена"]
["Каша гречневая рассыпчатая ",200,7.7,7.6,35,251,"КП24049"]
["Котлеты из говядины \"Люля-Кебаб\" с соусом томатным ",100,8,10,11,168,"КП24042"]
["Чай с сахаром ",200,0.2,0,6.5,27,"КП24045"]
["Хлеб пшеничный ",50,2.75,0.6,16.25,117,"0000065"]
["Всего в Полдник 2  ",{"$f":"SUM(B140:B143)","v":550},{"$f":"SUM(C140:C143)","v":18.65},{"$f":"SUM(D140:D143)","v":18.200000000000003},{"$f":"SUM(E140:E143)","v":68.75},{"$f":"SUM(F140:F143)","v":563}]
["Всего в день ",{"$f":"B138+B144","v":1365},{"$f":"C138+C144","v":45.57},42.54,180.35,1385]
[{"$nulls":3},"2-ая неделя/Среда "]
["Прием пищи, наименование блюда ","Вес блюда ","Пищевые вещества (г)",null,null,"Энерг. ценность ","№ рецептуры "]
[null,null,"Белки ","Жиры","Углеводы"]
[1,2,3,4,5,6,7]
["Обед 2 смена "]
["Свекольник со сметаной ",250,5,4,13,105,"КП24020"]
["Макароны отварные с маслом ",180,5,6,28,200,"КП24052"]
["Голень куриная запеченная с подливом из томатной пасты ",100,10.2,10.7,15,115,"КП24066"]
["Компот из смеси сухофруктов ",200,0.9,0.1,21,132,"КП24054"]
["Хлеб пшеничный ",45,2.48,0.54,14.63,105,"0000065"]
["Хлеб ржаной ",40,3.24,5.6,14.67,95,"ШК00129"]
["Всего в Обед 2 ",{"$f":"SUM(B151:B156)","v":815},{"$f":"SUM(C151:C156)","v":26.82},26.939999999999998,106.3,752]
["Полдник 2 смена"]
["Каша рисовая молочная ",210,8.3,10.4,34,320,"КП24053"]
["Сырники \"Сюрприз\"",90,6.9,6,18,110,"КП24006"]
["Чай с лимоном и сахаром ",200,0.3,0.3,1,65,"КП24047"]
["Хлеб пшеничный ",50,2.75,0.6,16.25,117,"0000065"]
["Всего в Полдник 2  ",{"$f":"SUM(B159:B162)","v":550},{"$f":"SUM(C159:C162)","v":18.25},{"$f":"SUM(D159:D162)","v":17.3},{"$f":"SUM(E159:E162)","v":69.25},{"$f":"SUM(F159:F162)","v":612}]
["Всего в день ",{"$f":"B157+B163","v":1365},{"$f":"C157+C163","v":45.07},44.239999999999995,175.55,1364]
[{"$nulls":3},"2-ая неделя/Четверг"]
["Прием пищи, наименование блюда ","Вес блюда ","Пищевые вещества (г)",null,null,"Энерг. ценность ","№ рецептуры "]
[null,null,"Белки ","Жиры","Углеводы"]
[1,2,3,4,5,6,7]
["Обед 2 смена "]
["Салат из белокачанной капусты ",100,1.8,2.1,7.2,52,"КП24063"]
["Суп-лапша домашняя",250,4,5.8,19,107,"КП24016"]
["Каша гречневая рассыпчатая с овощами и куриным фаршем ",180,11.5,10,40,450,"КП24035"]
["Чай с сахаром ",200,0.2,0,6.5,27,"КП24045"]
["Хлеб пшеничный ",45,2.48,0.54,14.63,105,"0000065"]
["Хлеб ржаной ",40,3.24,5.6,14.67,95,"ШК00129"]
["Всего в Обед 2 ",{"$f":"SUM(B170:B175)","v":815},{"$f":"SUM(C170:C175)","v":23.22},24.04,102,836]
["Полдник 2 смена"]
["Борщ со сметаной на курином бульоне ",280,11,12,30,158,"КП24065"]
["Какао с молоком ",200,3.1,4,16,180,"КП24044"]
["Хлеб пшеничный ",50,2.75,0.6,16.25,117,"0000065"]
["Кекс для детского питания",32,1,1.2,9,98,"КП24059"]
["Всего в Полдник 2  ",{"$f":"SUM(B178:B181)","v":562},{"$f":"SUM(C178:C181)","v":17.85},{"$f":"SUM(D178:D181)","v":17.8},{"$f":"SUM(E178:E181)","v":71.25},{"$f":"SUM(F178:F181)","v":553}]
["Всего в день ",{"$f":"B176+B182","v":1377},{"$f":"C176+C182","v":41.07},41.84,173.25,1389]
[{"$nulls":3},"2-ая неделя/Пятница"]
["Прием пищи, наименование блюда ","Вес блюда ","Пищевые вещества (г)",null,null,"Энерг. ценность ","№ рецептуры "]
[null,null,"Белки ","Жиры","Углеводы"]
[1,2,3,4,5,6,7]
["Обед 2 смена "]
["Салат из моркови на растительном масле (морковь,сахар)",100,2,4.5,10,110,"КП24062"]
["Суп картофельный с бобовыми и гренками ",250,10,5,16,162,"КП24024"]
["Плов из говядины ",180,6.66,11.25,30,281,"КП24050"]
["Компот из смеси сухофруктов ",200,0.9,0.1,21,132,"КП24054"]
["Хлеб пшеничный ",45,2.48,0.54,14.63,105,"0000065"]
["Хлеб ржаной ",40,3.24,5.6,14.67,95,"ШК00129"]
["Всего в Обед 2 ",{"$f":"SUM(B189:B194)","v":815},{"$f":"SUM(C189:C194)","v":25.28},26.990000000000002,106.3,885]
["Полдник 2 смена"]
["Картофельное пюре ",200,6,5,24,167,"КП24051"]
["Котлкты из говядины \"Боярские\" с соусом томатным ",100,10,14,35,254,"КП24041"]
["Чай с лимоном и сахаром ",200,0.3,0.3,1,65,"КП24047"]
["Хлеб пшеничный ",50,2.75,0.6,16.25,117,"0000065"]
["Всего в Полдник 2  ",{"$f":"SUM(B197:B200)","v":550},{"$f":"SUM(C197:C200)","v":19.05},{"$f":"SUM(D197:D200)","v":19.900000000000002},{"$f":"SUM(E197:E200)","v":76.25},{"$f":"SUM(F197:F200)","v":603}]
["Всего в день ",{"$f":"B195+B201","v":1365},{"$f":"C195+C201","v":44.33},46.89,182.55,1488]
["Итого:",null,{"$f":"C31+C50+C69+C88+C107+C126+C145+C164+C183+C202","v":446.46},{"$f":"D31+D50+D69+D88+D107+D126+D145+D164+D183+D202","v":441.65},{"$f":"E31+E50+E69+E88+E107+E126+E145+E164+E183+E202","v":1763.3699999999997},{"$f":"F31+F50+F69+F88+F107+F126+F145+F164+F183+F202","v":14303}]